BEGIN:VCALENDAR
VERSION:2.0
PRODID:-//Mabas Michigan - ECPv6.15.20//NONSGML v1.0//EN
CALSCALE:GREGORIAN
METHOD:PUBLISH
X-WR-CALNAME:Mabas Michigan
X-ORIGINAL-URL:https://mabasmi.org
X-WR-CALDESC:Events for Mabas Michigan
REFRESH-INTERVAL;VALUE=DURATION:PT1H
X-Robots-Tag:noindex
X-PUBLISHED-TTL:PT1H
BEGIN:VTIMEZONE
TZID:America/Chicago
BEGIN:DAYLIGHT
TZOFFSETFROM:-0600
TZOFFSETTO:-0500
TZNAME:CDT
DTSTART:20230312T080000
END:DAYLIGHT
BEGIN:STANDARD
TZOFFSETFROM:-0500
TZOFFSETTO:-0600
TZNAME:CST
DTSTART:20231105T070000
END:STANDARD
BEGIN:DAYLIGHT
TZOFFSETFROM:-0600
TZOFFSETTO:-0500
TZNAME:CDT
DTSTART:20240310T080000
END:DAYLIGHT
BEGIN:STANDARD
TZOFFSETFROM:-0500
TZOFFSETTO:-0600
TZNAME:CST
DTSTART:20241103T070000
END:STANDARD
BEGIN:DAYLIGHT
TZOFFSETFROM:-0600
TZOFFSETTO:-0500
TZNAME:CDT
DTSTART:20250309T080000
END:DAYLIGHT
BEGIN:STANDARD
TZOFFSETFROM:-0500
TZOFFSETTO:-0600
TZNAME:CST
DTSTART:20251102T070000
END:STANDARD
BEGIN:DAYLIGHT
TZOFFSETFROM:-0600
TZOFFSETTO:-0500
TZNAME:CDT
DTSTART:20260308T080000
END:DAYLIGHT
BEGIN:STANDARD
TZOFFSETFROM:-0500
TZOFFSETTO:-0600
TZNAME:CST
DTSTART:20261101T070000
END:STANDARD
END:VTIMEZONE
BEGIN:VEVENT
DTSTART;TZID=America/Chicago:20250318T090000
DTEND;TZID=America/Chicago:20250318T150000
DTSTAMP:20260424T181559
CREATED:20241218T174546Z
LAST-MODIFIED:20241218T180536Z
UID:2919-1742288400-1742310000@mabasmi.org
SUMMARY:MABAS 101 Training
DESCRIPTION:MABAS 101 Training \nTuesday March 18\, 2025 \n0900-1500 hours \nClinton Twp\, MI \n  \nRSVP Erik Youngblood \n@ 734-477-6437 or \neyoungblood@emergenthealth.org \n  \nClick the link for more details. \nMABAS 101 Macomb Comm College
URL:https://mabasmi.org/event/mabas-101-training-3/
END:VEVENT
BEGIN:VEVENT
DTSTART;TZID=America/Chicago:20250312T133000
DTEND;TZID=America/Chicago:20250312T150000
DTSTAMP:20260424T181559
CREATED:20241126T152750Z
LAST-MODIFIED:20241126T180301Z
UID:2788-1741786200-1741791600@mabasmi.org
SUMMARY:MIMABAS Executive Board Meeting
DESCRIPTION:MIMABAS Executive Board Meeting \nWednesday March 12\, 2025 at 1:30PM \nvia Zoom
URL:https://mabasmi.org/event/mimabas-executive-board-meeting-2-2/
LOCATION:Online
CATEGORIES:Meetings
END:VEVENT
BEGIN:VEVENT
DTSTART;TZID=America/Chicago:20250210T090000
DTEND;TZID=America/Chicago:20250210T150000
DTSTAMP:20260424T181559
CREATED:20241218T173308Z
LAST-MODIFIED:20241218T174730Z
UID:2908-1739178000-1739199600@mabasmi.org
SUMMARY:MABAS 101 Training
DESCRIPTION:MABAS 101 Training \nMonday February 10\, 2025 \n0900-1500 hours \nCorunna\, MI \n  \nRSVP Erik Youngblood \n@ 734-477-6437 or \neyoungblood@emergenthealth.org \n  \nClick the link for more details. \nMABAS 101 Shiawassee Co Central Dispatch
URL:https://mabasmi.org/event/mabas-101-training-2/
END:VEVENT
BEGIN:VEVENT
DTSTART;TZID=America/Chicago:20250113T090000
DTEND;TZID=America/Chicago:20250113T150000
DTSTAMP:20260424T181559
CREATED:20241218T172828Z
LAST-MODIFIED:20241218T174645Z
UID:2902-1736758800-1736780400@mabasmi.org
SUMMARY:MABAS 101 Training
DESCRIPTION:MABAS 101 Training \nMonday January 13\, 2025 \n0900-1500 hours \nEssexville\, MI \n  \nRSVP Erik Youngblood \n@ 734-477-6437 or \neyoungblood@emergenthealth.org \n  \nClick the link for more details. \nMABAS 101 Hampton Twp Public Safety
URL:https://mabasmi.org/event/mabas-101-training/
END:VEVENT
BEGIN:VEVENT
DTSTART;TZID=America/Chicago:20250108T133000
DTEND;TZID=America/Chicago:20250108T150000
DTSTAMP:20260424T181559
CREATED:20241126T180039Z
LAST-MODIFIED:20241126T180039Z
UID:2825-1736343000-1736348400@mabasmi.org
SUMMARY:MIMABAS Executive Board Meeting
DESCRIPTION:MIMABAS Executive Board Meeting \nWednesday January 8\, 2025 at 1:30PM \nvia Zoom
URL:https://mabasmi.org/event/mimabas-executive-board-meeting-2/
LOCATION:Online
CATEGORIES:Meetings
END:VEVENT
BEGIN:VEVENT
DTSTART;TZID=America/Chicago:20241211T130000
DTEND;TZID=America/Chicago:20241211T140000
DTSTAMP:20260424T181559
CREATED:20241126T181638Z
LAST-MODIFIED:20241126T181638Z
UID:2833-1733922000-1733925600@mabasmi.org
SUMMARY:Plan Coordinator - Regional Coordinator Meeting
DESCRIPTION:Plan Coordinator – Regional Coordinator Meeting \nWednesday December 11\, 2024 at 1:00PM \nvia Zoom
URL:https://mabasmi.org/event/plan-coordinator-regional-coordinator-meeting-2/
LOCATION:Online
CATEGORIES:Meetings
END:VEVENT
END:VCALENDAR