BEGIN:VCALENDAR
VERSION:2.0
PRODID:-//Mabas Michigan - ECPv6.15.20//NONSGML v1.0//EN
CALSCALE:GREGORIAN
METHOD:PUBLISH
X-WR-CALNAME:Mabas Michigan
X-ORIGINAL-URL:https://mabasmi.org
X-WR-CALDESC:Events for Mabas Michigan
REFRESH-INTERVAL;VALUE=DURATION:PT1H
X-Robots-Tag:noindex
X-PUBLISHED-TTL:PT1H
BEGIN:VTIMEZONE
TZID:America/Chicago
BEGIN:DAYLIGHT
TZOFFSETFROM:-0600
TZOFFSETTO:-0500
TZNAME:CDT
DTSTART:20230312T080000
END:DAYLIGHT
BEGIN:STANDARD
TZOFFSETFROM:-0500
TZOFFSETTO:-0600
TZNAME:CST
DTSTART:20231105T070000
END:STANDARD
BEGIN:DAYLIGHT
TZOFFSETFROM:-0600
TZOFFSETTO:-0500
TZNAME:CDT
DTSTART:20240310T080000
END:DAYLIGHT
BEGIN:STANDARD
TZOFFSETFROM:-0500
TZOFFSETTO:-0600
TZNAME:CST
DTSTART:20241103T070000
END:STANDARD
BEGIN:DAYLIGHT
TZOFFSETFROM:-0600
TZOFFSETTO:-0500
TZNAME:CDT
DTSTART:20250309T080000
END:DAYLIGHT
BEGIN:STANDARD
TZOFFSETFROM:-0500
TZOFFSETTO:-0600
TZNAME:CST
DTSTART:20251102T070000
END:STANDARD
BEGIN:DAYLIGHT
TZOFFSETFROM:-0600
TZOFFSETTO:-0500
TZNAME:CDT
DTSTART:20260308T080000
END:DAYLIGHT
BEGIN:STANDARD
TZOFFSETFROM:-0500
TZOFFSETTO:-0600
TZNAME:CST
DTSTART:20261101T070000
END:STANDARD
END:VTIMEZONE
BEGIN:VEVENT
DTSTART;TZID=America/Chicago:20251210T133000
DTEND;TZID=America/Chicago:20251210T143000
DTSTAMP:20260424T103837
CREATED:20250402T030826Z
LAST-MODIFIED:20251007T143733Z
UID:3243-1765373400-1765377000@mabasmi.org
SUMMARY:Plan Coordinator - Regional Coordinator Meeting
DESCRIPTION:Plan Coordinator – Regional Coordinator Meeting \nWednesday December 10\, 2025 at 1:30PM \nvia Zoom
URL:https://mabasmi.org/event/plan-coordinator-regional-coordinator-meeting-5/
LOCATION:Online
CATEGORIES:Meetings
END:VEVENT
BEGIN:VEVENT
DTSTART;TZID=America/Chicago:20251112T133000
DTEND;TZID=America/Chicago:20251112T150000
DTSTAMP:20260424T103837
CREATED:20250529T131025Z
LAST-MODIFIED:20250529T133130Z
UID:3349-1762954200-1762959600@mabasmi.org
SUMMARY:MI-MABAS Executive Meeting
DESCRIPTION:MIMABAS Executive Board Meeting\n\n\n\nWednesday November 12\, 2025 at 1:30pm \nvia Zoom
URL:https://mabasmi.org/event/mi-mabas-executive-meeting/
LOCATION:Online
CATEGORIES:Meetings
END:VEVENT
BEGIN:VEVENT
DTSTART;TZID=America/Chicago:20251015T133000
DTEND;TZID=America/Chicago:20251015T143000
DTSTAMP:20260424T103837
CREATED:20250402T030700Z
LAST-MODIFIED:20251007T144017Z
UID:3239-1760535000-1760538600@mabasmi.org
SUMMARY:Plan Coordinator - Regional Coordinator Meeting
DESCRIPTION:Plan Coordinator – Regional Coordinator Meeting \nWednesday October 15\, 2025 at 1:30PM \nvia Zoom
URL:https://mabasmi.org/event/plan-coordinator-regional-coordinator-meeting/
LOCATION:Online
CATEGORIES:Meetings
END:VEVENT
BEGIN:VEVENT
DTSTART;TZID=America/Chicago:20251014T080000
DTEND;TZID=America/Chicago:20251014T163000
DTSTAMP:20260424T103837
CREATED:20250915T220932Z
LAST-MODIFIED:20250915T220932Z
UID:3525-1760428800-1760459400@mabasmi.org
SUMMARY:Public Safety/Services Drone (sUAS) Training
DESCRIPTION:Public Safety/Services Drone (sUAS) Training \n  \nOctober 14th & 15th \n0800 – 1630 hours \n  \nPlease see flyer for more details. \nPublic Safety Drone Training – October 2025
URL:https://mabasmi.org/event/public-safety-services-drone-suas-training/
CATEGORIES:Training
END:VEVENT
BEGIN:VEVENT
DTSTART;TZID=America/Chicago:20251001T140000
DTEND;TZID=America/Chicago:20251001T200000
DTSTAMP:20260424T103837
CREATED:20250911T220600Z
LAST-MODIFIED:20250911T220600Z
UID:3515-1759327200-1759348800@mabasmi.org
SUMMARY:MABAS 101 Training
DESCRIPTION:MABAS 101 Training \nFor Fire Dispatchers \nWednesday October 1\, 2025 \n1400-2000 hours \nLapeer\, MI \n  \nRSVP Erik Youngblood \n@ 734-477-6437 or \nredcenter@michiganmabas.us \n  \nLapeer 100125 Class.docx
URL:https://mabasmi.org/event/mabas-101-training-13/
CATEGORIES:Training
END:VEVENT
BEGIN:VEVENT
DTSTART;TZID=America/Chicago:20250930T080000
DTEND;TZID=America/Chicago:20250930T140000
DTSTAMP:20260424T103837
CREATED:20250911T220218Z
LAST-MODIFIED:20250911T220218Z
UID:3510-1759219200-1759240800@mabasmi.org
SUMMARY:MABAS 101 Training
DESCRIPTION:MABAS 101 Training \nFor Fire Dispatchers \nTuesday September 30\, 2025 \n0800-1400 hours \nLapeer\, MI \n  \nRSVP Erik Youngblood \n@ 734-477-6437 or \nredcenter@michiganmabas.us \nLapeer 093025 Class.docx
URL:https://mabasmi.org/event/mabas-101-training-12/
CATEGORIES:Training
END:VEVENT
BEGIN:VEVENT
DTSTART;TZID=America/Chicago:20250922T080000
DTEND;TZID=America/Chicago:20250922T163000
DTSTAMP:20260424T103837
CREATED:20250915T221134Z
LAST-MODIFIED:20250915T221555Z
UID:3531-1758528000-1758558600@mabasmi.org
SUMMARY:Rescue Task Force Training
DESCRIPTION:Rescue Task Force Training \n  \nSeptember 22nd & 23rd \n0800 – 1630 hours \n  \nPlease see flyer for more details. \nRescue Task Force (2)
URL:https://mabasmi.org/event/rescue-task-force-training/
CATEGORIES:Training
END:VEVENT
BEGIN:VEVENT
DTSTART;TZID=America/Chicago:20250919T080000
DTEND;TZID=America/Chicago:20250919T170000
DTSTAMP:20260424T103837
CREATED:20250915T221402Z
LAST-MODIFIED:20250915T221631Z
UID:3536-1758268800-1758301200@mabasmi.org
SUMMARY:Vehicle Extrication Training
DESCRIPTION:Vehicle Extrication Training \n  \nSeptember 19th \n0800 – 1700 hours \n  \nPlease see flyer for more details. \nExtrication Training-Gaylord-September 2025
URL:https://mabasmi.org/event/vehicle-extrication-training/
CATEGORIES:Training
END:VEVENT
BEGIN:VEVENT
DTSTART;TZID=America/Chicago:20250910T133000
DTEND;TZID=America/Chicago:20250910T150000
DTSTAMP:20260424T103837
CREATED:20250529T130821Z
LAST-MODIFIED:20250529T133210Z
UID:3345-1757511000-1757516400@mabasmi.org
SUMMARY:MI-MABAS Executive Board Meeting
DESCRIPTION:MIMABAS Executive Board Meeting\n\n\n\nWednesday September 10\, 2025 at !:30pm \nvia Zoom
URL:https://mabasmi.org/event/mi-mabas-executive-board-meeting/
LOCATION:Online
CATEGORIES:Meetings
END:VEVENT
BEGIN:VEVENT
DTSTART;TZID=America/Chicago:20250905T070000
DTEND;TZID=America/Chicago:20250905T190000
DTSTAMP:20260424T103837
CREATED:20250716T164527Z
LAST-MODIFIED:20250716T164559Z
UID:3432-1757055600-1757098800@mabasmi.org
SUMMARY:MABAS 101 Training
DESCRIPTION:MABAS 101 Training \nFriday September 5\, 2025 \n0700-1200 hours \nor \n1400-1900 hours \nMarshall\, MI \n  \nRSVP Erik Youngblood \n@ 734-477-6437 or \nredcenter@michiganmabas.us \nMABAS 101 Calhoun Co Sep 5 2025.docx (1)
URL:https://mabasmi.org/event/3432/
CATEGORIES:Training
END:VEVENT
BEGIN:VEVENT
DTSTART;TZID=America/Chicago:20250904T070000
DTEND;TZID=America/Chicago:20250904T190000
DTSTAMP:20260424T103837
CREATED:20250716T164326Z
LAST-MODIFIED:20250716T164326Z
UID:3427-1756969200-1757012400@mabasmi.org
SUMMARY:MABAS 101 Training
DESCRIPTION:MABAS 101 Training \nThursday September 4\, 2025 \n0700-1200 hours \nor \n1400-1900 hours \nMarshall\, MI \n  \nRSVP Erik Youngblood \n@ 734-477-6437 or \nredcenter@michiganmabas.us \nMABAS 101 Calhoun Co Sep 4 2025.docx (1)
URL:https://mabasmi.org/event/mabas-101-training-11/
CATEGORIES:Training
END:VEVENT
BEGIN:VEVENT
DTSTART;TZID=America/Chicago:20250813T133000
DTEND;TZID=America/Chicago:20250813T143000
DTSTAMP:20260424T103837
CREATED:20241203T160211Z
LAST-MODIFIED:20250402T030336Z
UID:2858-1755091800-1755095400@mabasmi.org
SUMMARY:Plan Coordinator - Regional Coordinator Meeting
DESCRIPTION:Plan Coordinator – Regional Coordinator Meeting \nWednesday August 13\, 2025 at 1:30PM \nvia Zoom
URL:https://mabasmi.org/event/2858/
LOCATION:Online
END:VEVENT
BEGIN:VEVENT
DTSTART;TZID=America/Chicago:20250723T090000
DTEND;TZID=America/Chicago:20250723T150000
DTSTAMP:20260424T103837
CREATED:20250716T163831Z
LAST-MODIFIED:20250716T163907Z
UID:3421-1753261200-1753282800@mabasmi.org
SUMMARY:MABAS 101 Training
DESCRIPTION:MABAS 101 Training \nTuesday July 22\, 2025 or Wednesday July 23\, 2025 \n0900-1500 hours \nCadillac\, MI \n  \nRSVP Erik Youngblood \n@ 734-477-6437 or \nredcenter@michiganmabas.us \nMABAS 101 Wexford July 2025 (1)
URL:https://mabasmi.org/event/mabas-101-training-10/
CATEGORIES:Training
END:VEVENT
BEGIN:VEVENT
DTSTART;TZID=America/Chicago:20250722T140000
DTEND;TZID=America/Chicago:20250722T200000
DTSTAMP:20260424T103837
CREATED:20250529T132812Z
LAST-MODIFIED:20250529T132812Z
UID:3353-1753192800-1753214400@mabasmi.org
SUMMARY:MABAS 101 Training
DESCRIPTION:MABAS 101 Training \nTuesday July 22\, 2025 or Wednesday July 23\, 2025 \n0900-1500 hours \nCadillac\, MI \n  \nRSVP Erik Youngblood \n@ 734-477-6437 or \nredcenter@michiganmabas.us \n  \nClick for more details. \nMABAS 101 Wexford July 2025 (1)
URL:https://mabasmi.org/event/mabas-101-training-9/
CATEGORIES:Training
END:VEVENT
BEGIN:VEVENT
DTSTART;TZID=America/Chicago:20250709T133000
DTEND;TZID=America/Chicago:20250709T150000
DTSTAMP:20260424T103837
CREATED:20241203T160433Z
LAST-MODIFIED:20241203T160433Z
UID:2863-1752067800-1752073200@mabasmi.org
SUMMARY:MIMABAS Executive Board Meeting
DESCRIPTION:MIMABAS Executive Board Meeting \nWednesday July 9\, 2025 at !:30pm \nvia Zoom
URL:https://mabasmi.org/event/mimabas-executive-board-meeting-3/
LOCATION:Online
END:VEVENT
BEGIN:VEVENT
DTSTART;TZID=America/Chicago:20250611T133000
DTEND;TZID=America/Chicago:20250611T143000
DTSTAMP:20260424T103837
CREATED:20241203T160039Z
LAST-MODIFIED:20250402T030308Z
UID:2854-1749648600-1749652200@mabasmi.org
SUMMARY:Plan Coordinator - Regional Coordinator Meeting
DESCRIPTION:Plan Coordinator – Regional Coordinator Meeting \nWednesday June 11\, 2025 at 1:30PM \nvia Zoom
URL:https://mabasmi.org/event/plan-coordinator-regional-coordinator-meeting-4/
LOCATION:Online
END:VEVENT
BEGIN:VEVENT
DTSTART;TZID=America/Chicago:20250610T090000
DTEND;TZID=America/Chicago:20250610T150000
DTSTAMP:20260424T103837
CREATED:20250313T140101Z
LAST-MODIFIED:20250529T133359Z
UID:3184-1749546000-1749567600@mabasmi.org
SUMMARY:MABAS 101 Training
DESCRIPTION:MABAS 101 Training \nTuesday June 10\, 2025 \n0900-1500 hours \nTroy\, MI \n  \nRSVP Erik Youngblood \n@ 734-477-6437 or \nredcenter@michiganmabas.us \n  \nClick for more details. \nMABAS 101 Troy\, MI
URL:https://mabasmi.org/event/mabas-101-training-7/
END:VEVENT
BEGIN:VEVENT
DTSTART;TZID=America/Chicago:20250528T090000
DTEND;TZID=America/Chicago:20250528T150000
DTSTAMP:20260424T103837
CREATED:20250108T154909Z
LAST-MODIFIED:20250108T175343Z
UID:2978-1748422800-1748444400@mabasmi.org
SUMMARY:MABAS 101 Training
DESCRIPTION:MABAS 101 Training \nWednesday May 28\, 2025 0900-1500 hours \nDetroit\, MI \nRSVP Erik Youngblood \n@ 734-477-6437 or \neyoungblood@emergenthealth.org \nClick link for details. \nMABAS 101 May 28 2025 DTW
URL:https://mabasmi.org/event/mabas-101-training-6/
CATEGORIES:Training
END:VEVENT
BEGIN:VEVENT
DTSTART;TZID=America/Chicago:20250514T133000
DTEND;TZID=America/Chicago:20250514T150000
DTSTAMP:20260424T103837
CREATED:20241203T155833Z
LAST-MODIFIED:20241203T155833Z
UID:2850-1747229400-1747234800@mabasmi.org
SUMMARY:MIMABAS Executive Board Meeting
DESCRIPTION:MIMABAS Executive Board Meeting \nWednesday May 14\, 2025 at !:30pm \nvia Zoom
URL:https://mabasmi.org/event/mimabas-executive-board-meeting/
LOCATION:Online
END:VEVENT
BEGIN:VEVENT
DTSTART;TZID=America/Chicago:20250503T090000
DTEND;TZID=America/Chicago:20250503T150000
DTSTAMP:20260424T103837
CREATED:20250313T140345Z
LAST-MODIFIED:20250313T141108Z
UID:3188-1746262800-1746284400@mabasmi.org
SUMMARY:MABAS 101 Training
DESCRIPTION:MABAS 101 Training \nTuesday May 3\, 2025 \n0900-1500 hours \nWallace\, MI \n  \nRSVP Erik Youngblood \n@ 734-477-6437 or \neyoungblood@emergenthealth.org \n  \nClick for more details. \nMABAS 101 Mellen Twp FD
URL:https://mabasmi.org/event/mabas-101-training-8/
END:VEVENT
BEGIN:VEVENT
DTSTART;TZID=America/Chicago:20250430T090000
DTEND;TZID=America/Chicago:20250430T150000
DTSTAMP:20260424T103837
CREATED:20250108T154547Z
LAST-MODIFIED:20250108T175135Z
UID:2974-1746003600-1746025200@mabasmi.org
SUMMARY:MABAS 101 Training
DESCRIPTION:MABAS 101 Training \nWednesday April 30\, 2025 0900-1500 hours \nEscanaba\, MI \nRSVP Erik Youngblood \n@ 734-477-6437 or \neyoungblood@emergenthealth.org \nClick link for details. \nMABAS 101 April 30 Delta Co Central Dispatch
URL:https://mabasmi.org/event/mabas-101-training-5/
CATEGORIES:Training
END:VEVENT
BEGIN:VEVENT
DTSTART;TZID=America/Chicago:20250429T090000
DTEND;TZID=America/Chicago:20250429T150000
DTSTAMP:20260424T103837
CREATED:20250108T153722Z
LAST-MODIFIED:20250108T175031Z
UID:2966-1745917200-1745938800@mabasmi.org
SUMMARY:MABAS 101 Training
DESCRIPTION:MABAS 101 Training \nTuesday April 29\, 2025 0900-1500 hours \nIron Mountain\, MI \nRSVP Erik Youngblood \n@ 734-477-6437 or \neyoungblood@emergenthealth.org \nMABAS 101 April 29 Dickinson Co Sheriff
URL:https://mabasmi.org/event/mabas-101-training-4/
CATEGORIES:Training
END:VEVENT
BEGIN:VEVENT
DTSTART;TZID=America/Chicago:20250409T133000
DTEND;TZID=America/Chicago:20250409T143000
DTSTAMP:20260424T103837
CREATED:20241126T180008Z
LAST-MODIFIED:20250402T030412Z
UID:2792-1744205400-1744209000@mabasmi.org
SUMMARY:Plan Coordinator - Regional Coordinator Meeting
DESCRIPTION:Plan Coordinator – Regional Coordinator Meeting \nWednesday April 9\, 2025 at 1:30PM \nvia Zoom
URL:https://mabasmi.org/event/plan-coordinator-regional-coordinator-meeting-3/
LOCATION:Online
CATEGORIES:Meetings
END:VEVENT
BEGIN:VEVENT
DTSTART;TZID=America/Chicago:20250318T090000
DTEND;TZID=America/Chicago:20250318T150000
DTSTAMP:20260424T103837
CREATED:20241218T174546Z
LAST-MODIFIED:20241218T180536Z
UID:2919-1742288400-1742310000@mabasmi.org
SUMMARY:MABAS 101 Training
DESCRIPTION:MABAS 101 Training \nTuesday March 18\, 2025 \n0900-1500 hours \nClinton Twp\, MI \n  \nRSVP Erik Youngblood \n@ 734-477-6437 or \neyoungblood@emergenthealth.org \n  \nClick the link for more details. \nMABAS 101 Macomb Comm College
URL:https://mabasmi.org/event/mabas-101-training-3/
END:VEVENT
BEGIN:VEVENT
DTSTART;TZID=America/Chicago:20250312T133000
DTEND;TZID=America/Chicago:20250312T150000
DTSTAMP:20260424T103837
CREATED:20241126T152750Z
LAST-MODIFIED:20241126T180301Z
UID:2788-1741786200-1741791600@mabasmi.org
SUMMARY:MIMABAS Executive Board Meeting
DESCRIPTION:MIMABAS Executive Board Meeting \nWednesday March 12\, 2025 at 1:30PM \nvia Zoom
URL:https://mabasmi.org/event/mimabas-executive-board-meeting-2-2/
LOCATION:Online
CATEGORIES:Meetings
END:VEVENT
BEGIN:VEVENT
DTSTART;TZID=America/Chicago:20250210T090000
DTEND;TZID=America/Chicago:20250210T150000
DTSTAMP:20260424T103837
CREATED:20241218T173308Z
LAST-MODIFIED:20241218T174730Z
UID:2908-1739178000-1739199600@mabasmi.org
SUMMARY:MABAS 101 Training
DESCRIPTION:MABAS 101 Training \nMonday February 10\, 2025 \n0900-1500 hours \nCorunna\, MI \n  \nRSVP Erik Youngblood \n@ 734-477-6437 or \neyoungblood@emergenthealth.org \n  \nClick the link for more details. \nMABAS 101 Shiawassee Co Central Dispatch
URL:https://mabasmi.org/event/mabas-101-training-2/
END:VEVENT
BEGIN:VEVENT
DTSTART;TZID=America/Chicago:20250113T090000
DTEND;TZID=America/Chicago:20250113T150000
DTSTAMP:20260424T103837
CREATED:20241218T172828Z
LAST-MODIFIED:20241218T174645Z
UID:2902-1736758800-1736780400@mabasmi.org
SUMMARY:MABAS 101 Training
DESCRIPTION:MABAS 101 Training \nMonday January 13\, 2025 \n0900-1500 hours \nEssexville\, MI \n  \nRSVP Erik Youngblood \n@ 734-477-6437 or \neyoungblood@emergenthealth.org \n  \nClick the link for more details. \nMABAS 101 Hampton Twp Public Safety
URL:https://mabasmi.org/event/mabas-101-training/
END:VEVENT
BEGIN:VEVENT
DTSTART;TZID=America/Chicago:20250108T133000
DTEND;TZID=America/Chicago:20250108T150000
DTSTAMP:20260424T103837
CREATED:20241126T180039Z
LAST-MODIFIED:20241126T180039Z
UID:2825-1736343000-1736348400@mabasmi.org
SUMMARY:MIMABAS Executive Board Meeting
DESCRIPTION:MIMABAS Executive Board Meeting \nWednesday January 8\, 2025 at 1:30PM \nvia Zoom
URL:https://mabasmi.org/event/mimabas-executive-board-meeting-2/
LOCATION:Online
CATEGORIES:Meetings
END:VEVENT
BEGIN:VEVENT
DTSTART;TZID=America/Chicago:20241211T130000
DTEND;TZID=America/Chicago:20241211T140000
DTSTAMP:20260424T103837
CREATED:20241126T181638Z
LAST-MODIFIED:20241126T181638Z
UID:2833-1733922000-1733925600@mabasmi.org
SUMMARY:Plan Coordinator - Regional Coordinator Meeting
DESCRIPTION:Plan Coordinator – Regional Coordinator Meeting \nWednesday December 11\, 2024 at 1:00PM \nvia Zoom
URL:https://mabasmi.org/event/plan-coordinator-regional-coordinator-meeting-2/
LOCATION:Online
CATEGORIES:Meetings
END:VEVENT
END:VCALENDAR